BEGIN:VCALENDAR
VERSION:2.0
PRODID:-//The Granite - ECPv6.11.2//NONSGML v1.0//EN
CALSCALE:GREGORIAN
METHOD:PUBLISH
X-ORIGINAL-URL:https://thegranitechurch.org
X-WR-CALDESC:Events for The Granite
REFRESH-INTERVAL;VALUE=DURATION:PT1H
X-Robots-Tag:noindex
X-PUBLISHED-TTL:PT1H
BEGIN:VTIMEZONE
TZID:UTC
BEGIN:STANDARD
TZOFFSETFROM:+0000
TZOFFSETTO:+0000
TZNAME:UTC
DTSTART:20240101T000000
END:STANDARD
END:VTIMEZONE
BEGIN:VTIMEZONE
TZID:America/New_York
BEGIN:DAYLIGHT
TZOFFSETFROM:-0500
TZOFFSETTO:-0400
TZNAME:EDT
DTSTART:20240310T070000
END:DAYLIGHT
BEGIN:STANDARD
TZOFFSETFROM:-0400
TZOFFSETTO:-0500
TZNAME:EST
DTSTART:20241103T060000
END:STANDARD
BEGIN:DAYLIGHT
TZOFFSETFROM:-0500
TZOFFSETTO:-0400
TZNAME:EDT
DTSTART:20250309T070000
END:DAYLIGHT
BEGIN:STANDARD
TZOFFSETFROM:-0400
TZOFFSETTO:-0500
TZNAME:EST
DTSTART:20251102T060000
END:STANDARD
END:VTIMEZONE
BEGIN:VEVENT
DTSTART;TZID=UTC:20250325T170000
DTEND;TZID=UTC:20250325T220000
DTSTAMP:20260422T211044
CREATED:20250325T201729Z
LAST-MODIFIED:20250325T204444Z
UID:10000095-1742922000-1742940000@thegranitechurch.org
SUMMARY:Private Rehearsal
DESCRIPTION:The Granite Church will be closed for a private rehearsal. \nIf you have any questions\, please contact us here.
URL:https://thegranitechurch.org/event/private-rehearsal-0325/
LOCATION:The Granite Church\, 5 N. Main Street\, Redding\, CT\, 06896\, United States
CATEGORIES:Private Event
ATTACH;FMTTYPE=image/png:https://thegranitechurch.org/wp-content/uploads/2025/03/PrivateRehearsal.png
END:VEVENT
BEGIN:VEVENT
DTSTART;TZID=UTC:20250208T190000
DTEND;TZID=UTC:20250208T233000
DTSTAMP:20260422T211044
CREATED:20250122T153452Z
LAST-MODIFIED:20250122T153452Z
UID:10000087-1739041200-1739057400@thegranitechurch.org
SUMMARY:Private Event
DESCRIPTION:The Granite will be closed for a private event. \nIf you have any questions\, please contact us here.
URL:https://thegranitechurch.org/event/private-event-feb8/
LOCATION:The Granite Church\, 5 N. Main Street\, Redding\, CT\, 06896\, United States
CATEGORIES:Private Event
END:VEVENT
BEGIN:VEVENT
DTSTART;TZID=America/New_York:20241231T200000
DTEND;TZID=America/New_York:20250101T010000
DTSTAMP:20260422T211044
CREATED:20241219T130525Z
LAST-MODIFIED:20250102T201901Z
UID:10000080-1735675200-1735693200@thegranitechurch.org
SUMMARY:A Symphonic Countdown to 2025
DESCRIPTION:A Symphonic Countdown to 2025\nCelebrate New Year’s Eve at The Granite!\nA thank you to our community featuring music from Symphonic Bodega and the visual sound improvisations of DaDa Mr. \nSuggested donation: $25. Food and champagne toast will be served. BYOB and bring your friends!
URL:https://thegranitechurch.org/event/symphonic-countdown/
LOCATION:The Granite Church\, 5 N. Main Street\, Redding\, CT\, 06896\, United States
CATEGORIES:Music,Private Event
ATTACH;FMTTYPE=image/png:https://thegranitechurch.org/wp-content/uploads/2024/12/Symphonic-Countdown-1.png
END:VEVENT
BEGIN:VEVENT
DTSTART;TZID=UTC:20241216T120000
DTEND;TZID=UTC:20241216T153000
DTSTAMP:20260422T211044
CREATED:20241029T210709Z
LAST-MODIFIED:20241029T210709Z
UID:10000072-1734350400-1734363000@thegranitechurch.org
SUMMARY:Super Sisters Service Project - Private Event
DESCRIPTION:The Granite Church will be closed for a private event. \nIf you have any questions\, please contact us here.
URL:https://thegranitechurch.org/event/super-sisters-service-project-private-event/
LOCATION:The Granite Church\, 5 N. Main Street\, Redding\, CT\, 06896\, United States
CATEGORIES:Private Event
END:VEVENT
BEGIN:VEVENT
DTSTART;VALUE=DATE:20241215
DTEND;VALUE=DATE:20241216
DTSTAMP:20260422T211044
CREATED:20241116T005608Z
LAST-MODIFIED:20241116T005608Z
UID:10000078-1734220800-1734307199@thegranitechurch.org
SUMMARY:Private Recording Session
DESCRIPTION:The Granite Church will be closed for a private recording session. \nIf you have any questions\, please contact us here.
URL:https://thegranitechurch.org/event/private-recording-session-121524/
LOCATION:The Granite Church\, 5 N. Main Street\, Redding\, CT\, 06896\, United States
CATEGORIES:Private Event
ATTACH;FMTTYPE=image/png:https://thegranitechurch.org/wp-content/uploads/2024/07/GCRecordingSession-Mic.png
END:VEVENT
BEGIN:VEVENT
DTSTART;TZID=UTC:20241214T170000
DTEND;TZID=UTC:20241214T220000
DTSTAMP:20260422T211044
CREATED:20241116T005526Z
LAST-MODIFIED:20241116T005526Z
UID:10000077-1734195600-1734213600@thegranitechurch.org
SUMMARY:Private Recording Session
DESCRIPTION:The Granite Church will be closed for a private recording session. \nIf you have any questions\, please contact us here.
URL:https://thegranitechurch.org/event/private-recording-session-121424/
LOCATION:The Granite Church\, 5 N. Main Street\, Redding\, CT\, 06896\, United States
CATEGORIES:Private Event
ATTACH;FMTTYPE=image/png:https://thegranitechurch.org/wp-content/uploads/2024/07/GCRecordingSession-Mic.png
END:VEVENT
BEGIN:VEVENT
DTSTART;TZID=UTC:20241208T100000
DTEND;TZID=UTC:20241208T130000
DTSTAMP:20260422T211044
CREATED:20241116T005220Z
LAST-MODIFIED:20241116T005220Z
UID:10000075-1733652000-1733662800@thegranitechurch.org
SUMMARY:Private Music Video Filming
DESCRIPTION:The Granite Church will be closed for a private recording session. \nIf you have any questions\, please contact us here.
URL:https://thegranitechurch.org/event/private-music-video-120824/
LOCATION:The Granite Church\, 5 N. Main Street\, Redding\, CT\, 06896\, United States
CATEGORIES:Private Event
END:VEVENT
BEGIN:VEVENT
DTSTART;TZID=UTC:20241201T110000
DTEND;TZID=UTC:20241201T140000
DTSTAMP:20260422T211044
CREATED:20241116T005353Z
LAST-MODIFIED:20241116T005353Z
UID:10000076-1733050800-1733061600@thegranitechurch.org
SUMMARY:Private Recording Session
DESCRIPTION:The Granite Church will be closed for a private recording session. \nIf you have any questions\, please contact us here.
URL:https://thegranitechurch.org/event/private-recording-session-120124/
LOCATION:The Granite Church\, 5 N. Main Street\, Redding\, CT\, 06896\, United States
CATEGORIES:Private Event
ATTACH;FMTTYPE=image/png:https://thegranitechurch.org/wp-content/uploads/2024/07/GCRecordingSession-Mic.png
END:VEVENT
BEGIN:VEVENT
DTSTART;TZID=UTC:20241120T170000
DTEND;TZID=UTC:20241120T220000
DTSTAMP:20260422T211044
CREATED:20241116T004403Z
LAST-MODIFIED:20241116T004403Z
UID:10000074-1732122000-1732140000@thegranitechurch.org
SUMMARY:Private Band Rehearsal
DESCRIPTION:The Granite Church will be closed for a private recording session. \nIf you have any questions\, please contact us here.
URL:https://thegranitechurch.org/event/private-band-rehearsal/
LOCATION:The Granite Church\, 5 N. Main Street\, Redding\, CT\, 06896\, United States
CATEGORIES:Private Event
END:VEVENT
BEGIN:VEVENT
DTSTART;TZID=UTC:20240926T190000
DTEND;TZID=UTC:20240926T200000
DTSTAMP:20260422T211044
CREATED:20240509T211004Z
LAST-MODIFIED:20240924T213045Z
UID:10000042-1727377200-1727380800@thegranitechurch.org
SUMMARY:In Conversation: Jimmy Grashow and Bob Marty
DESCRIPTION:As a special part of Jimmy’s World\, James Grashow and Bob Marty will appear in Conversation at The Granite\, Thursday\, September 26 from 7-8 PM. Join these two friends as they talk about their 47 years of friendship\, their love of art\, and more. \nDoors: 6:30 PM\nConversation: 7-8:00 PM\nReception: 8-9:00 PM \nPlease note: this is a free event\, but capacity is limited to 40 people who are 17 years of age and older.  \nRSVP today using the form below.  \nLearn more about James Grashow: https://www.jamesgrashow.com \nLearn more about Bob Marty: https://bobmarty.com \n 
URL:https://thegranitechurch.org/event/in-conversation-jimmy-grashow-and-bob-marty/
LOCATION:The Granite Church\, 5 N. Main Street\, Redding\, CT\, 06896\, United States
CATEGORIES:Private Event
ATTACH;FMTTYPE=image/jpeg:https://thegranitechurch.org/wp-content/uploads/2024/05/IMG_1398.jpg
END:VEVENT
BEGIN:VEVENT
DTSTART;VALUE=DATE:20240721
DTEND;VALUE=DATE:20240722
DTSTAMP:20260422T211044
CREATED:20240722T205416Z
LAST-MODIFIED:20240722T205416Z
UID:10000052-1721520000-1721606399@thegranitechurch.org
SUMMARY:Private Recording Session
DESCRIPTION:The Granite Church will be closed for a private recording session. \nIf you have any questions\, please contact us here.
URL:https://thegranitechurch.org/event/private-recording-session-jul212024/
LOCATION:The Granite Church\, 5 N. Main Street\, Redding\, CT\, 06896\, United States
CATEGORIES:Private Event
ATTACH;FMTTYPE=image/png:https://thegranitechurch.org/wp-content/uploads/2024/07/GCRecordingSession-Mic.png
END:VEVENT
BEGIN:VEVENT
DTSTART;TZID=UTC:20240619T190000
DTEND;TZID=UTC:20240619T235900
DTSTAMP:20260422T211044
CREATED:20240405T205809Z
LAST-MODIFIED:20240529T225409Z
UID:10000031-1718823600-1718841540@thegranitechurch.org
SUMMARY:Private Band Rehearsal
DESCRIPTION:The Granite Church will be closed for a private event. \nIf you have any questions\, please contact us here.
URL:https://thegranitechurch.org/event/private-band-rehearsal-06192024/
LOCATION:The Granite Church\, 5 N. Main Street\, Redding\, CT\, 06896\, United States
CATEGORIES:Private Event
END:VEVENT
BEGIN:VEVENT
DTSTART;VALUE=DATE:20240617
DTEND;VALUE=DATE:20240621
DTSTAMP:20260422T211044
CREATED:20240529T225640Z
LAST-MODIFIED:20240529T225640Z
UID:10000046-1718582400-1718927999@thegranitechurch.org
SUMMARY:Private Oil Painting Class
DESCRIPTION:The Granite Church will be closed for a private oil painting class in the Sunshine Room on June 17-20. \nIf you have any questions\, please contact us here.
URL:https://thegranitechurch.org/event/private-oil-painting-class-062024/
LOCATION:The Granite Church\, 5 N. Main Street\, Redding\, CT\, 06896\, United States
CATEGORIES:Private Event
END:VEVENT
BEGIN:VEVENT
DTSTART;VALUE=DATE:20240615
DTEND;VALUE=DATE:20240616
DTSTAMP:20260422T211044
CREATED:20240430T011728Z
LAST-MODIFIED:20240501T180412Z
UID:10000035-1718409600-1718495999@thegranitechurch.org
SUMMARY:Private Recording Session
DESCRIPTION:The Granite Church will be closed for a private recording session. \nIf you have any questions\, please contact us here.
URL:https://thegranitechurch.org/event/private-recording-session/
LOCATION:The Granite Church\, 5 N. Main Street\, Redding\, CT\, 06896\, United States
CATEGORIES:Private Event
END:VEVENT
BEGIN:VEVENT
DTSTART;TZID=UTC:20240523T150000
DTEND;TZID=UTC:20240523T170000
DTSTAMP:20260422T211044
CREATED:20240521T184636Z
LAST-MODIFIED:20240521T184636Z
UID:10000044-1716476400-1716483600@thegranitechurch.org
SUMMARY:SOAR Together Private Event
DESCRIPTION:The Granite Church will be closed for a private event. \nIf you have any questions\, please contact us here.
URL:https://thegranitechurch.org/event/soar-together-private-event/
LOCATION:The Granite Church\, 5 N. Main Street\, Redding\, CT\, 06896\, United States
CATEGORIES:Private Event
END:VEVENT
BEGIN:VEVENT
DTSTART;TZID=UTC:20240511T120000
DTEND;TZID=UTC:20240511T140000
DTSTAMP:20260422T211044
CREATED:20240509T210910Z
LAST-MODIFIED:20240509T210910Z
UID:10000041-1715428800-1715436000@thegranitechurch.org
SUMMARY:Private Event
DESCRIPTION:The Granite Church will be closed for a private event. \nIf you have any questions\, please contact us here.
URL:https://thegranitechurch.org/event/private-event-may112024/
LOCATION:The Granite Church\, 5 N. Main Street\, Redding\, CT\, 06896\, United States
CATEGORIES:Private Event
END:VEVENT
END:VCALENDAR