BEGIN:VCALENDAR
VERSION:2.0
PRODID:-//The Granite - ECPv6.11.2//NONSGML v1.0//EN
CALSCALE:GREGORIAN
METHOD:PUBLISH
X-ORIGINAL-URL:https://thegranitechurch.org
X-WR-CALDESC:Events for The Granite
REFRESH-INTERVAL;VALUE=DURATION:PT1H
X-Robots-Tag:noindex
X-PUBLISHED-TTL:PT1H
BEGIN:VTIMEZONE
TZID:America/New_York
BEGIN:DAYLIGHT
TZOFFSETFROM:-0500
TZOFFSETTO:-0400
TZNAME:EDT
DTSTART:20290311T070000
END:DAYLIGHT
BEGIN:STANDARD
TZOFFSETFROM:-0400
TZOFFSETTO:-0500
TZNAME:EST
DTSTART:20291104T060000
END:STANDARD
BEGIN:DAYLIGHT
TZOFFSETFROM:-0500
TZOFFSETTO:-0400
TZNAME:EDT
DTSTART:20300310T070000
END:DAYLIGHT
BEGIN:STANDARD
TZOFFSETFROM:-0400
TZOFFSETTO:-0500
TZNAME:EST
DTSTART:20301103T060000
END:STANDARD
END:VTIMEZONE
BEGIN:VEVENT
DTSTART;TZID=America/New_York:20290221T193000
DTEND;TZID=America/New_York:20290221T193000
DTSTAMP:20260419T101918
CREATED:20260105T175722Z
LAST-MODIFIED:20260126T163512Z
UID:10001024-1866396600-1866396600@thegranitechurch.org
SUMMARY:Old Time Jam
DESCRIPTION:Old Time Jam\nThird Wednesday of the Month\, 7:30 PM\nTickets: Donations Appreciated \nCalling all fiddles\, guitars\, and banjos for an Old Time Jam at the Granite! \nPlay along or sit back and listen to Appalachian music with us. Bring any acoustic string instrument and make new friends playing old-timey tunes with other musicians. \nFor an excellent representation of the types of music played at these jams\, listen to The Old Time 100 album by Tristan Scoggins and George Jackson here. \nCome as you are\, give as you can. All are welcome!
URL:https://thegranitechurch.org/event/old-time-jam-wednesdays/2029-02-21/
LOCATION:The Granite Church\, 5 N. Main Street\, Redding\, CT\, 06896\, United States
CATEGORIES:Bluegrass,Music
ATTACH;FMTTYPE=image/png:https://thegranitechurch.org/wp-content/uploads/2026/01/Old-Time-Jam-Wednesdays.png
END:VEVENT
BEGIN:VEVENT
DTSTART;TZID=America/New_York:20290321T193000
DTEND;TZID=America/New_York:20290321T193000
DTSTAMP:20260419T101918
CREATED:20260105T175722Z
LAST-MODIFIED:20260126T163512Z
UID:10001025-1868815800-1868815800@thegranitechurch.org
SUMMARY:Old Time Jam
DESCRIPTION:Old Time Jam\nThird Wednesday of the Month\, 7:30 PM\nTickets: Donations Appreciated \nCalling all fiddles\, guitars\, and banjos for an Old Time Jam at the Granite! \nPlay along or sit back and listen to Appalachian music with us. Bring any acoustic string instrument and make new friends playing old-timey tunes with other musicians. \nFor an excellent representation of the types of music played at these jams\, listen to The Old Time 100 album by Tristan Scoggins and George Jackson here. \nCome as you are\, give as you can. All are welcome!
URL:https://thegranitechurch.org/event/old-time-jam-wednesdays/2029-03-21/
LOCATION:The Granite Church\, 5 N. Main Street\, Redding\, CT\, 06896\, United States
CATEGORIES:Bluegrass,Music
ATTACH;FMTTYPE=image/png:https://thegranitechurch.org/wp-content/uploads/2026/01/Old-Time-Jam-Wednesdays.png
END:VEVENT
BEGIN:VEVENT
DTSTART;TZID=America/New_York:20290418T193000
DTEND;TZID=America/New_York:20290418T193000
DTSTAMP:20260419T101918
CREATED:20260105T175722Z
LAST-MODIFIED:20260126T163512Z
UID:10001026-1871235000-1871235000@thegranitechurch.org
SUMMARY:Old Time Jam
DESCRIPTION:Old Time Jam\nThird Wednesday of the Month\, 7:30 PM\nTickets: Donations Appreciated \nCalling all fiddles\, guitars\, and banjos for an Old Time Jam at the Granite! \nPlay along or sit back and listen to Appalachian music with us. Bring any acoustic string instrument and make new friends playing old-timey tunes with other musicians. \nFor an excellent representation of the types of music played at these jams\, listen to The Old Time 100 album by Tristan Scoggins and George Jackson here. \nCome as you are\, give as you can. All are welcome!
URL:https://thegranitechurch.org/event/old-time-jam-wednesdays/2029-04-18/
LOCATION:The Granite Church\, 5 N. Main Street\, Redding\, CT\, 06896\, United States
CATEGORIES:Bluegrass,Music
ATTACH;FMTTYPE=image/png:https://thegranitechurch.org/wp-content/uploads/2026/01/Old-Time-Jam-Wednesdays.png
END:VEVENT
BEGIN:VEVENT
DTSTART;TZID=America/New_York:20290516T193000
DTEND;TZID=America/New_York:20290516T193000
DTSTAMP:20260419T101918
CREATED:20260105T175722Z
LAST-MODIFIED:20260126T163512Z
UID:10001027-1873654200-1873654200@thegranitechurch.org
SUMMARY:Old Time Jam
DESCRIPTION:Old Time Jam\nThird Wednesday of the Month\, 7:30 PM\nTickets: Donations Appreciated \nCalling all fiddles\, guitars\, and banjos for an Old Time Jam at the Granite! \nPlay along or sit back and listen to Appalachian music with us. Bring any acoustic string instrument and make new friends playing old-timey tunes with other musicians. \nFor an excellent representation of the types of music played at these jams\, listen to The Old Time 100 album by Tristan Scoggins and George Jackson here. \nCome as you are\, give as you can. All are welcome!
URL:https://thegranitechurch.org/event/old-time-jam-wednesdays/2029-05-16/
LOCATION:The Granite Church\, 5 N. Main Street\, Redding\, CT\, 06896\, United States
CATEGORIES:Bluegrass,Music
ATTACH;FMTTYPE=image/png:https://thegranitechurch.org/wp-content/uploads/2026/01/Old-Time-Jam-Wednesdays.png
END:VEVENT
BEGIN:VEVENT
DTSTART;TZID=America/New_York:20290620T193000
DTEND;TZID=America/New_York:20290620T193000
DTSTAMP:20260419T101918
CREATED:20260105T175722Z
LAST-MODIFIED:20260126T163512Z
UID:10001028-1876678200-1876678200@thegranitechurch.org
SUMMARY:Old Time Jam
DESCRIPTION:Old Time Jam\nThird Wednesday of the Month\, 7:30 PM\nTickets: Donations Appreciated \nCalling all fiddles\, guitars\, and banjos for an Old Time Jam at the Granite! \nPlay along or sit back and listen to Appalachian music with us. Bring any acoustic string instrument and make new friends playing old-timey tunes with other musicians. \nFor an excellent representation of the types of music played at these jams\, listen to The Old Time 100 album by Tristan Scoggins and George Jackson here. \nCome as you are\, give as you can. All are welcome!
URL:https://thegranitechurch.org/event/old-time-jam-wednesdays/2029-06-20/
LOCATION:The Granite Church\, 5 N. Main Street\, Redding\, CT\, 06896\, United States
CATEGORIES:Bluegrass,Music
ATTACH;FMTTYPE=image/png:https://thegranitechurch.org/wp-content/uploads/2026/01/Old-Time-Jam-Wednesdays.png
END:VEVENT
BEGIN:VEVENT
DTSTART;TZID=America/New_York:20290718T193000
DTEND;TZID=America/New_York:20290718T193000
DTSTAMP:20260419T101918
CREATED:20260105T175722Z
LAST-MODIFIED:20260126T163512Z
UID:10001029-1879097400-1879097400@thegranitechurch.org
SUMMARY:Old Time Jam
DESCRIPTION:Old Time Jam\nThird Wednesday of the Month\, 7:30 PM\nTickets: Donations Appreciated \nCalling all fiddles\, guitars\, and banjos for an Old Time Jam at the Granite! \nPlay along or sit back and listen to Appalachian music with us. Bring any acoustic string instrument and make new friends playing old-timey tunes with other musicians. \nFor an excellent representation of the types of music played at these jams\, listen to The Old Time 100 album by Tristan Scoggins and George Jackson here. \nCome as you are\, give as you can. All are welcome!
URL:https://thegranitechurch.org/event/old-time-jam-wednesdays/2029-07-18/
LOCATION:The Granite Church\, 5 N. Main Street\, Redding\, CT\, 06896\, United States
CATEGORIES:Bluegrass,Music
ATTACH;FMTTYPE=image/png:https://thegranitechurch.org/wp-content/uploads/2026/01/Old-Time-Jam-Wednesdays.png
END:VEVENT
BEGIN:VEVENT
DTSTART;TZID=America/New_York:20290815T193000
DTEND;TZID=America/New_York:20290815T193000
DTSTAMP:20260419T101918
CREATED:20260105T175722Z
LAST-MODIFIED:20260126T163512Z
UID:10001030-1881516600-1881516600@thegranitechurch.org
SUMMARY:Old Time Jam
DESCRIPTION:Old Time Jam\nThird Wednesday of the Month\, 7:30 PM\nTickets: Donations Appreciated \nCalling all fiddles\, guitars\, and banjos for an Old Time Jam at the Granite! \nPlay along or sit back and listen to Appalachian music with us. Bring any acoustic string instrument and make new friends playing old-timey tunes with other musicians. \nFor an excellent representation of the types of music played at these jams\, listen to The Old Time 100 album by Tristan Scoggins and George Jackson here. \nCome as you are\, give as you can. All are welcome!
URL:https://thegranitechurch.org/event/old-time-jam-wednesdays/2029-08-15/
LOCATION:The Granite Church\, 5 N. Main Street\, Redding\, CT\, 06896\, United States
CATEGORIES:Bluegrass,Music
ATTACH;FMTTYPE=image/png:https://thegranitechurch.org/wp-content/uploads/2026/01/Old-Time-Jam-Wednesdays.png
END:VEVENT
BEGIN:VEVENT
DTSTART;TZID=America/New_York:20290919T193000
DTEND;TZID=America/New_York:20290919T193000
DTSTAMP:20260419T101918
CREATED:20260105T175722Z
LAST-MODIFIED:20260126T163512Z
UID:10001031-1884540600-1884540600@thegranitechurch.org
SUMMARY:Old Time Jam
DESCRIPTION:Old Time Jam\nThird Wednesday of the Month\, 7:30 PM\nTickets: Donations Appreciated \nCalling all fiddles\, guitars\, and banjos for an Old Time Jam at the Granite! \nPlay along or sit back and listen to Appalachian music with us. Bring any acoustic string instrument and make new friends playing old-timey tunes with other musicians. \nFor an excellent representation of the types of music played at these jams\, listen to The Old Time 100 album by Tristan Scoggins and George Jackson here. \nCome as you are\, give as you can. All are welcome!
URL:https://thegranitechurch.org/event/old-time-jam-wednesdays/2029-09-19/
LOCATION:The Granite Church\, 5 N. Main Street\, Redding\, CT\, 06896\, United States
CATEGORIES:Bluegrass,Music
ATTACH;FMTTYPE=image/png:https://thegranitechurch.org/wp-content/uploads/2026/01/Old-Time-Jam-Wednesdays.png
END:VEVENT
BEGIN:VEVENT
DTSTART;TZID=America/New_York:20291017T193000
DTEND;TZID=America/New_York:20291017T193000
DTSTAMP:20260419T101918
CREATED:20260105T175722Z
LAST-MODIFIED:20260126T163512Z
UID:10001032-1886959800-1886959800@thegranitechurch.org
SUMMARY:Old Time Jam
DESCRIPTION:Old Time Jam\nThird Wednesday of the Month\, 7:30 PM\nTickets: Donations Appreciated \nCalling all fiddles\, guitars\, and banjos for an Old Time Jam at the Granite! \nPlay along or sit back and listen to Appalachian music with us. Bring any acoustic string instrument and make new friends playing old-timey tunes with other musicians. \nFor an excellent representation of the types of music played at these jams\, listen to The Old Time 100 album by Tristan Scoggins and George Jackson here. \nCome as you are\, give as you can. All are welcome!
URL:https://thegranitechurch.org/event/old-time-jam-wednesdays/2029-10-17/
LOCATION:The Granite Church\, 5 N. Main Street\, Redding\, CT\, 06896\, United States
CATEGORIES:Bluegrass,Music
ATTACH;FMTTYPE=image/png:https://thegranitechurch.org/wp-content/uploads/2026/01/Old-Time-Jam-Wednesdays.png
END:VEVENT
BEGIN:VEVENT
DTSTART;TZID=America/New_York:20291121T193000
DTEND;TZID=America/New_York:20291121T193000
DTSTAMP:20260419T101918
CREATED:20260105T175722Z
LAST-MODIFIED:20260126T163512Z
UID:10001033-1889983800-1889983800@thegranitechurch.org
SUMMARY:Old Time Jam
DESCRIPTION:Old Time Jam\nThird Wednesday of the Month\, 7:30 PM\nTickets: Donations Appreciated \nCalling all fiddles\, guitars\, and banjos for an Old Time Jam at the Granite! \nPlay along or sit back and listen to Appalachian music with us. Bring any acoustic string instrument and make new friends playing old-timey tunes with other musicians. \nFor an excellent representation of the types of music played at these jams\, listen to The Old Time 100 album by Tristan Scoggins and George Jackson here. \nCome as you are\, give as you can. All are welcome!
URL:https://thegranitechurch.org/event/old-time-jam-wednesdays/2029-11-21/
LOCATION:The Granite Church\, 5 N. Main Street\, Redding\, CT\, 06896\, United States
CATEGORIES:Bluegrass,Music
ATTACH;FMTTYPE=image/png:https://thegranitechurch.org/wp-content/uploads/2026/01/Old-Time-Jam-Wednesdays.png
END:VEVENT
BEGIN:VEVENT
DTSTART;TZID=America/New_York:20291219T193000
DTEND;TZID=America/New_York:20291219T193000
DTSTAMP:20260419T101918
CREATED:20260105T175722Z
LAST-MODIFIED:20260126T163512Z
UID:10001034-1892403000-1892403000@thegranitechurch.org
SUMMARY:Old Time Jam
DESCRIPTION:Old Time Jam\nThird Wednesday of the Month\, 7:30 PM\nTickets: Donations Appreciated \nCalling all fiddles\, guitars\, and banjos for an Old Time Jam at the Granite! \nPlay along or sit back and listen to Appalachian music with us. Bring any acoustic string instrument and make new friends playing old-timey tunes with other musicians. \nFor an excellent representation of the types of music played at these jams\, listen to The Old Time 100 album by Tristan Scoggins and George Jackson here. \nCome as you are\, give as you can. All are welcome!
URL:https://thegranitechurch.org/event/old-time-jam-wednesdays/2029-12-19/
LOCATION:The Granite Church\, 5 N. Main Street\, Redding\, CT\, 06896\, United States
CATEGORIES:Bluegrass,Music
ATTACH;FMTTYPE=image/png:https://thegranitechurch.org/wp-content/uploads/2026/01/Old-Time-Jam-Wednesdays.png
END:VEVENT
BEGIN:VEVENT
DTSTART;TZID=America/New_York:20300116T193000
DTEND;TZID=America/New_York:20300116T193000
DTSTAMP:20260419T101918
CREATED:20260105T175722Z
LAST-MODIFIED:20260126T163512Z
UID:10001035-1894822200-1894822200@thegranitechurch.org
SUMMARY:Old Time Jam
DESCRIPTION:Old Time Jam\nThird Wednesday of the Month\, 7:30 PM\nTickets: Donations Appreciated \nCalling all fiddles\, guitars\, and banjos for an Old Time Jam at the Granite! \nPlay along or sit back and listen to Appalachian music with us. Bring any acoustic string instrument and make new friends playing old-timey tunes with other musicians. \nFor an excellent representation of the types of music played at these jams\, listen to The Old Time 100 album by Tristan Scoggins and George Jackson here. \nCome as you are\, give as you can. All are welcome!
URL:https://thegranitechurch.org/event/old-time-jam-wednesdays/2030-01-16/
LOCATION:The Granite Church\, 5 N. Main Street\, Redding\, CT\, 06896\, United States
CATEGORIES:Bluegrass,Music
ATTACH;FMTTYPE=image/png:https://thegranitechurch.org/wp-content/uploads/2026/01/Old-Time-Jam-Wednesdays.png
END:VEVENT
BEGIN:VEVENT
DTSTART;TZID=America/New_York:20300220T193000
DTEND;TZID=America/New_York:20300220T193000
DTSTAMP:20260419T101918
CREATED:20260105T175722Z
LAST-MODIFIED:20260126T163512Z
UID:10001036-1897846200-1897846200@thegranitechurch.org
SUMMARY:Old Time Jam
DESCRIPTION:Old Time Jam\nThird Wednesday of the Month\, 7:30 PM\nTickets: Donations Appreciated \nCalling all fiddles\, guitars\, and banjos for an Old Time Jam at the Granite! \nPlay along or sit back and listen to Appalachian music with us. Bring any acoustic string instrument and make new friends playing old-timey tunes with other musicians. \nFor an excellent representation of the types of music played at these jams\, listen to The Old Time 100 album by Tristan Scoggins and George Jackson here. \nCome as you are\, give as you can. All are welcome!
URL:https://thegranitechurch.org/event/old-time-jam-wednesdays/2030-02-20/
LOCATION:The Granite Church\, 5 N. Main Street\, Redding\, CT\, 06896\, United States
CATEGORIES:Bluegrass,Music
ATTACH;FMTTYPE=image/png:https://thegranitechurch.org/wp-content/uploads/2026/01/Old-Time-Jam-Wednesdays.png
END:VEVENT
BEGIN:VEVENT
DTSTART;TZID=America/New_York:20300320T193000
DTEND;TZID=America/New_York:20300320T193000
DTSTAMP:20260419T101918
CREATED:20260105T175722Z
LAST-MODIFIED:20260126T163512Z
UID:10001037-1900265400-1900265400@thegranitechurch.org
SUMMARY:Old Time Jam
DESCRIPTION:Old Time Jam\nThird Wednesday of the Month\, 7:30 PM\nTickets: Donations Appreciated \nCalling all fiddles\, guitars\, and banjos for an Old Time Jam at the Granite! \nPlay along or sit back and listen to Appalachian music with us. Bring any acoustic string instrument and make new friends playing old-timey tunes with other musicians. \nFor an excellent representation of the types of music played at these jams\, listen to The Old Time 100 album by Tristan Scoggins and George Jackson here. \nCome as you are\, give as you can. All are welcome!
URL:https://thegranitechurch.org/event/old-time-jam-wednesdays/2030-03-20/
LOCATION:The Granite Church\, 5 N. Main Street\, Redding\, CT\, 06896\, United States
CATEGORIES:Bluegrass,Music
ATTACH;FMTTYPE=image/png:https://thegranitechurch.org/wp-content/uploads/2026/01/Old-Time-Jam-Wednesdays.png
END:VEVENT
BEGIN:VEVENT
DTSTART;TZID=America/New_York:20300417T193000
DTEND;TZID=America/New_York:20300417T193000
DTSTAMP:20260419T101918
CREATED:20260105T175722Z
LAST-MODIFIED:20260126T163512Z
UID:10001038-1902684600-1902684600@thegranitechurch.org
SUMMARY:Old Time Jam
DESCRIPTION:Old Time Jam\nThird Wednesday of the Month\, 7:30 PM\nTickets: Donations Appreciated \nCalling all fiddles\, guitars\, and banjos for an Old Time Jam at the Granite! \nPlay along or sit back and listen to Appalachian music with us. Bring any acoustic string instrument and make new friends playing old-timey tunes with other musicians. \nFor an excellent representation of the types of music played at these jams\, listen to The Old Time 100 album by Tristan Scoggins and George Jackson here. \nCome as you are\, give as you can. All are welcome!
URL:https://thegranitechurch.org/event/old-time-jam-wednesdays/2030-04-17/
LOCATION:The Granite Church\, 5 N. Main Street\, Redding\, CT\, 06896\, United States
CATEGORIES:Bluegrass,Music
ATTACH;FMTTYPE=image/png:https://thegranitechurch.org/wp-content/uploads/2026/01/Old-Time-Jam-Wednesdays.png
END:VEVENT
BEGIN:VEVENT
DTSTART;TZID=America/New_York:20300515T193000
DTEND;TZID=America/New_York:20300515T193000
DTSTAMP:20260419T101918
CREATED:20260105T175722Z
LAST-MODIFIED:20260126T163512Z
UID:10001039-1905103800-1905103800@thegranitechurch.org
SUMMARY:Old Time Jam
DESCRIPTION:Old Time Jam\nThird Wednesday of the Month\, 7:30 PM\nTickets: Donations Appreciated \nCalling all fiddles\, guitars\, and banjos for an Old Time Jam at the Granite! \nPlay along or sit back and listen to Appalachian music with us. Bring any acoustic string instrument and make new friends playing old-timey tunes with other musicians. \nFor an excellent representation of the types of music played at these jams\, listen to The Old Time 100 album by Tristan Scoggins and George Jackson here. \nCome as you are\, give as you can. All are welcome!
URL:https://thegranitechurch.org/event/old-time-jam-wednesdays/2030-05-15/
LOCATION:The Granite Church\, 5 N. Main Street\, Redding\, CT\, 06896\, United States
CATEGORIES:Bluegrass,Music
ATTACH;FMTTYPE=image/png:https://thegranitechurch.org/wp-content/uploads/2026/01/Old-Time-Jam-Wednesdays.png
END:VEVENT
BEGIN:VEVENT
DTSTART;TZID=America/New_York:20300619T193000
DTEND;TZID=America/New_York:20300619T193000
DTSTAMP:20260419T101918
CREATED:20260105T175722Z
LAST-MODIFIED:20260126T163512Z
UID:10001040-1908127800-1908127800@thegranitechurch.org
SUMMARY:Old Time Jam
DESCRIPTION:Old Time Jam\nThird Wednesday of the Month\, 7:30 PM\nTickets: Donations Appreciated \nCalling all fiddles\, guitars\, and banjos for an Old Time Jam at the Granite! \nPlay along or sit back and listen to Appalachian music with us. Bring any acoustic string instrument and make new friends playing old-timey tunes with other musicians. \nFor an excellent representation of the types of music played at these jams\, listen to The Old Time 100 album by Tristan Scoggins and George Jackson here. \nCome as you are\, give as you can. All are welcome!
URL:https://thegranitechurch.org/event/old-time-jam-wednesdays/2030-06-19/
LOCATION:The Granite Church\, 5 N. Main Street\, Redding\, CT\, 06896\, United States
CATEGORIES:Bluegrass,Music
ATTACH;FMTTYPE=image/png:https://thegranitechurch.org/wp-content/uploads/2026/01/Old-Time-Jam-Wednesdays.png
END:VEVENT
BEGIN:VEVENT
DTSTART;TZID=America/New_York:20300717T193000
DTEND;TZID=America/New_York:20300717T193000
DTSTAMP:20260419T101918
CREATED:20260105T175722Z
LAST-MODIFIED:20260126T163512Z
UID:10001041-1910547000-1910547000@thegranitechurch.org
SUMMARY:Old Time Jam
DESCRIPTION:Old Time Jam\nThird Wednesday of the Month\, 7:30 PM\nTickets: Donations Appreciated \nCalling all fiddles\, guitars\, and banjos for an Old Time Jam at the Granite! \nPlay along or sit back and listen to Appalachian music with us. Bring any acoustic string instrument and make new friends playing old-timey tunes with other musicians. \nFor an excellent representation of the types of music played at these jams\, listen to The Old Time 100 album by Tristan Scoggins and George Jackson here. \nCome as you are\, give as you can. All are welcome!
URL:https://thegranitechurch.org/event/old-time-jam-wednesdays/2030-07-17/
LOCATION:The Granite Church\, 5 N. Main Street\, Redding\, CT\, 06896\, United States
CATEGORIES:Bluegrass,Music
ATTACH;FMTTYPE=image/png:https://thegranitechurch.org/wp-content/uploads/2026/01/Old-Time-Jam-Wednesdays.png
END:VEVENT
BEGIN:VEVENT
DTSTART;TZID=America/New_York:20300821T193000
DTEND;TZID=America/New_York:20300821T193000
DTSTAMP:20260419T101918
CREATED:20260105T175722Z
LAST-MODIFIED:20260126T163512Z
UID:10001042-1913571000-1913571000@thegranitechurch.org
SUMMARY:Old Time Jam
DESCRIPTION:Old Time Jam\nThird Wednesday of the Month\, 7:30 PM\nTickets: Donations Appreciated \nCalling all fiddles\, guitars\, and banjos for an Old Time Jam at the Granite! \nPlay along or sit back and listen to Appalachian music with us. Bring any acoustic string instrument and make new friends playing old-timey tunes with other musicians. \nFor an excellent representation of the types of music played at these jams\, listen to The Old Time 100 album by Tristan Scoggins and George Jackson here. \nCome as you are\, give as you can. All are welcome!
URL:https://thegranitechurch.org/event/old-time-jam-wednesdays/2030-08-21/
LOCATION:The Granite Church\, 5 N. Main Street\, Redding\, CT\, 06896\, United States
CATEGORIES:Bluegrass,Music
ATTACH;FMTTYPE=image/png:https://thegranitechurch.org/wp-content/uploads/2026/01/Old-Time-Jam-Wednesdays.png
END:VEVENT
BEGIN:VEVENT
DTSTART;TZID=America/New_York:20300918T193000
DTEND;TZID=America/New_York:20300918T193000
DTSTAMP:20260419T101918
CREATED:20260105T175722Z
LAST-MODIFIED:20260126T163512Z
UID:10001043-1915990200-1915990200@thegranitechurch.org
SUMMARY:Old Time Jam
DESCRIPTION:Old Time Jam\nThird Wednesday of the Month\, 7:30 PM\nTickets: Donations Appreciated \nCalling all fiddles\, guitars\, and banjos for an Old Time Jam at the Granite! \nPlay along or sit back and listen to Appalachian music with us. Bring any acoustic string instrument and make new friends playing old-timey tunes with other musicians. \nFor an excellent representation of the types of music played at these jams\, listen to The Old Time 100 album by Tristan Scoggins and George Jackson here. \nCome as you are\, give as you can. All are welcome!
URL:https://thegranitechurch.org/event/old-time-jam-wednesdays/2030-09-18/
LOCATION:The Granite Church\, 5 N. Main Street\, Redding\, CT\, 06896\, United States
CATEGORIES:Bluegrass,Music
ATTACH;FMTTYPE=image/png:https://thegranitechurch.org/wp-content/uploads/2026/01/Old-Time-Jam-Wednesdays.png
END:VEVENT
BEGIN:VEVENT
DTSTART;TZID=America/New_York:20301016T193000
DTEND;TZID=America/New_York:20301016T193000
DTSTAMP:20260419T101918
CREATED:20260105T175722Z
LAST-MODIFIED:20260126T163512Z
UID:10001044-1918409400-1918409400@thegranitechurch.org
SUMMARY:Old Time Jam
DESCRIPTION:Old Time Jam\nThird Wednesday of the Month\, 7:30 PM\nTickets: Donations Appreciated \nCalling all fiddles\, guitars\, and banjos for an Old Time Jam at the Granite! \nPlay along or sit back and listen to Appalachian music with us. Bring any acoustic string instrument and make new friends playing old-timey tunes with other musicians. \nFor an excellent representation of the types of music played at these jams\, listen to The Old Time 100 album by Tristan Scoggins and George Jackson here. \nCome as you are\, give as you can. All are welcome!
URL:https://thegranitechurch.org/event/old-time-jam-wednesdays/2030-10-16/
LOCATION:The Granite Church\, 5 N. Main Street\, Redding\, CT\, 06896\, United States
CATEGORIES:Bluegrass,Music
ATTACH;FMTTYPE=image/png:https://thegranitechurch.org/wp-content/uploads/2026/01/Old-Time-Jam-Wednesdays.png
END:VEVENT
BEGIN:VEVENT
DTSTART;TZID=America/New_York:20301120T193000
DTEND;TZID=America/New_York:20301120T193000
DTSTAMP:20260419T101918
CREATED:20260105T175722Z
LAST-MODIFIED:20260126T163512Z
UID:10001045-1921433400-1921433400@thegranitechurch.org
SUMMARY:Old Time Jam
DESCRIPTION:Old Time Jam\nThird Wednesday of the Month\, 7:30 PM\nTickets: Donations Appreciated \nCalling all fiddles\, guitars\, and banjos for an Old Time Jam at the Granite! \nPlay along or sit back and listen to Appalachian music with us. Bring any acoustic string instrument and make new friends playing old-timey tunes with other musicians. \nFor an excellent representation of the types of music played at these jams\, listen to The Old Time 100 album by Tristan Scoggins and George Jackson here. \nCome as you are\, give as you can. All are welcome!
URL:https://thegranitechurch.org/event/old-time-jam-wednesdays/2030-11-20/
LOCATION:The Granite Church\, 5 N. Main Street\, Redding\, CT\, 06896\, United States
CATEGORIES:Bluegrass,Music
ATTACH;FMTTYPE=image/png:https://thegranitechurch.org/wp-content/uploads/2026/01/Old-Time-Jam-Wednesdays.png
END:VEVENT
BEGIN:VEVENT
DTSTART;TZID=America/New_York:20301218T193000
DTEND;TZID=America/New_York:20301218T193000
DTSTAMP:20260419T101918
CREATED:20260105T175722Z
LAST-MODIFIED:20260126T163512Z
UID:10001046-1923852600-1923852600@thegranitechurch.org
SUMMARY:Old Time Jam
DESCRIPTION:Old Time Jam\nThird Wednesday of the Month\, 7:30 PM\nTickets: Donations Appreciated \nCalling all fiddles\, guitars\, and banjos for an Old Time Jam at the Granite! \nPlay along or sit back and listen to Appalachian music with us. Bring any acoustic string instrument and make new friends playing old-timey tunes with other musicians. \nFor an excellent representation of the types of music played at these jams\, listen to The Old Time 100 album by Tristan Scoggins and George Jackson here. \nCome as you are\, give as you can. All are welcome!
URL:https://thegranitechurch.org/event/old-time-jam-wednesdays/2030-12-18/
LOCATION:The Granite Church\, 5 N. Main Street\, Redding\, CT\, 06896\, United States
CATEGORIES:Bluegrass,Music
ATTACH;FMTTYPE=image/png:https://thegranitechurch.org/wp-content/uploads/2026/01/Old-Time-Jam-Wednesdays.png
END:VEVENT
END:VCALENDAR