BEGIN:VCALENDAR
VERSION:2.0
PRODID:-//The Granite - ECPv6.11.2//NONSGML v1.0//EN
CALSCALE:GREGORIAN
METHOD:PUBLISH
X-ORIGINAL-URL:https://thegranitechurch.org
X-WR-CALDESC:Events for The Granite
REFRESH-INTERVAL;VALUE=DURATION:PT1H
X-Robots-Tag:noindex
X-PUBLISHED-TTL:PT1H
BEGIN:VTIMEZONE
TZID:America/New_York
BEGIN:DAYLIGHT
TZOFFSETFROM:-0500
TZOFFSETTO:-0400
TZNAME:EDT
DTSTART:20260308T070000
END:DAYLIGHT
BEGIN:STANDARD
TZOFFSETFROM:-0400
TZOFFSETTO:-0500
TZNAME:EST
DTSTART:20261101T060000
END:STANDARD
END:VTIMEZONE
BEGIN:VEVENT
DTSTART;TZID=America/New_York:20260226T190000
DTEND;TZID=America/New_York:20260226T220000
DTSTAMP:20260419T115637
CREATED:20260106T165307Z
LAST-MODIFIED:20260323T185255Z
UID:10001053-1772132400-1772143200@thegranitechurch.org
SUMMARY:Bluegrass Nights
DESCRIPTION:Bluegrass Nights\n4th Thursday of the Month\, Winter 2026: Jan 22\, Feb 26\, Mar 26\, 7 PM – 10 PM\n\nOpen Bluegrass Jam: 7:30 PM\nGranite House Bluegrass Band: 8 PM\nFree jamming afterwards\nDonations Appreciated\n\nJoin us for our monthly celebratory night of bluegrass music! Come to listen\, come to jam\, come to learn. Live music from the Granite House Bluegrass band starting at 8 PM\, an easy\, led slow bluegrass jam for beginner and intermediate players starting at 7:30\, and late night jamming open to all. Banjos\, fiddles\, guitars\, dobros\, mandolins\, bass\, and similar acoustic instruments welcome. \nHOSTED BY AUSTIN SCELZO\nAustin Scelzo (Danbury\, CT) first studied various fiddle traditions at Mark O’Connor’s Berklee String Camps and over time learned all the bluegrass instruments as well as singing and songwriting. During four years as a middle school music teacher\, his bluegrass journey began with performing in CT-based bands and teaching in-person and online. Now full-time in bluegrass\, Austin performs with respected veterans The Rock Hearts and the Americana quartet On the Trail\, teaches jam camps and has created groundbreaking online instruction materials. He has been named Connecticut Arts Hero and nominated as Mentor of the Year by the International Bluegrass Music Association. \nPart of The Granite Bluegrass Series \nBluegrass Nights at The Granite is a recipient of the 2026 IBMA Foundation Project Grant. Thank you so much to The IBMA Foundation for their support!
URL:https://thegranitechurch.org/event/bluegrass-nights-winter2026/2026-02-26/
LOCATION:The Granite Church\, 5 N. Main Street\, Redding\, CT\, 06896\, United States
CATEGORIES:Bluegrass,Music
ATTACH;FMTTYPE=image/png:https://thegranitechurch.org/wp-content/uploads/2026/01/Bluegrass-Nights-Winter-2026.png
END:VEVENT
END:VCALENDAR