BEGIN:VCALENDAR
VERSION:2.0
PRODID:-//The Granite - ECPv6.11.2//NONSGML v1.0//EN
CALSCALE:GREGORIAN
METHOD:PUBLISH
X-WR-CALNAME:The Granite
X-ORIGINAL-URL:https://thegranitechurch.org
X-WR-CALDESC:Events for The Granite
REFRESH-INTERVAL;VALUE=DURATION:PT1H
X-Robots-Tag:noindex
X-PUBLISHED-TTL:PT1H
BEGIN:VTIMEZONE
TZID:America/New_York
BEGIN:DAYLIGHT
TZOFFSETFROM:-0500
TZOFFSETTO:-0400
TZNAME:EDT
DTSTART:20260308T070000
END:DAYLIGHT
BEGIN:STANDARD
TZOFFSETFROM:-0400
TZOFFSETTO:-0500
TZNAME:EST
DTSTART:20261101T060000
END:STANDARD
END:VTIMEZONE
BEGIN:VEVENT
DTSTART;TZID=America/New_York:20260207T190000
DTEND;TZID=America/New_York:20260207T220000
DTSTAMP:20260419T150017
CREATED:20250723T145416Z
LAST-MODIFIED:20251006T160435Z
UID:10000206-1770490800-1770501600@thegranitechurch.org
SUMMARY:Kenny Warren's Sweet World
DESCRIPTION:Kenny Warren’s Sweet World\nSaturday\, February 7\, Doors 7 PM\, Show 8 PM\nTickets: $25 in advance\, $30 at the door\nSweet World’s sound is a composite of its three members\, each with unique voices from New York’s vibrant music scene. Melodic\, rhythmic\, jazz\, folk\, and sonic exploration in the context of Kenny Warren’s lively compositions. Their debut LP on Out of Your Head Records was hailed by the Best of Bandcamp as “the sonic representation of a beating heart.” \nWe believe that jazz is liberation music\, a means of connecting us to our humanity\, our communities\, and to nature. As an expression of radical love\, free music empowers us to fight fascism\, racism\, militarism\, and economic exploitation. \nKenny Warren – trumpet/compositions\nChristopher Hoffman – cello\nNathan Ellman-Bell – drums \nLearn more at kennywarrenmusic.com. \nABOUT THE ARTISTS\nKenny Warren is a trumpeter and composer who has been active in NYC’s improvised music community since 2006. He has made over a dozen records of his music with various ensembles including 3 LPs with his avant-country outfit Laila and Smitty\, a handful of self-produced solo records\, and jazz records with his quartet and trio for Whirlwind Recordings and Out of Your Head Records. Longtime jazz writer for The Chicago Reader Peter Margasak calls Kenny “A player of great imagination and subtlety who always seems to focus on an ensemble-oriented sound even on his own recordings”. As a side-person Warren has recently recorded with The Angelica Sanchez Nonet\, Stephan Crump’s Passerine and Slow Water\, The Anna Webber/Angela Morris Large Ensemble\, and Tony Malaby’s Jersey Condombe. He has toured internationally with Jamie Baum\, Bonobo\, and Slavic Soul Party who has held a weekly residency at Barbes in Brooklyn for over 20 years. Warren grew up in Denver\, CO where he was inspired at a young age by the generosity and artistry of the late great Ron Miles. \nChristopher Hoffman is a cellist\, composer\, producer\, engineer and filmmaker. He currently performs in Henry Threadgill’s Pulitzer Prize winning ensemble Zooid\, Grammy-Nominated Anat Cohen Tentet\, Kenny Warren’s Sweet World\, Darius Jones Quintet and his own projects. He has directed several music videos\, 3 short films and BTS pieces for feature films. His short “You Dog Likes Me More Than You” is available to view on Amazon Prime and his short “Salamander” is currently screening in American and European festivals. He served as the Director of Production and Engineering at New School for 17 years. He has worked with Martin Scorsese\, Yoko Ono\, Jack Antonoff\, Iron & Wine\, Ryan Adams\, Jack Huston\, Marianne Faithfull\, Michael Pitt & Pagoda\, Marc Ribot\, Butch Morris\, Lee Konitz\, Anna Webber\, Ryan Scott\, Anthony Coleman\, Jeremiah Cymerman and many others. \nNathan Ellman-Bell is one of NYC’s most versatile and in demand drummers. He co-leads the avant-pop band Wild Idol with singer Nora Palka\, and the Brooklyn jazz-rock band Slow Tiger. He plays with countless bands including those of Sebastien Amman\, Olli Hirvonen\, Kenny Warren\, Michael Sarian\, and Aleksi Glick. He is also a member of Brass Against who he has recorded and toured with extensively. In 2024 Brass Against spent 3 months in Europe on tour which included a five week run in support of the rock band Tool. Nathan grew up in Southern California and studied music at the Peabody Conservatory in Baltimore. \nPart of The Granite Jazz Series
URL:https://thegranitechurch.org/event/kenny-warren-sweet-world/
LOCATION:The Granite Church\, 5 N. Main Street\, Redding\, CT\, 06896\, United States
CATEGORIES:Music
ATTACH;FMTTYPE=image/png:https://thegranitechurch.org/wp-content/uploads/2025/07/KennyWarrenRectangle.png
END:VEVENT
END:VCALENDAR