BEGIN:VCALENDAR
VERSION:2.0
PRODID:-//The Granite - ECPv6.11.2//NONSGML v1.0//EN
CALSCALE:GREGORIAN
METHOD:PUBLISH
X-WR-CALNAME:The Granite
X-ORIGINAL-URL:https://thegranitechurch.org
X-WR-CALDESC:Events for The Granite
REFRESH-INTERVAL;VALUE=DURATION:PT1H
X-Robots-Tag:noindex
X-PUBLISHED-TTL:PT1H
BEGIN:VTIMEZONE
TZID:America/New_York
BEGIN:DAYLIGHT
TZOFFSETFROM:-0500
TZOFFSETTO:-0400
TZNAME:EDT
DTSTART:20260308T070000
END:DAYLIGHT
BEGIN:STANDARD
TZOFFSETFROM:-0400
TZOFFSETTO:-0500
TZNAME:EST
DTSTART:20261101T060000
END:STANDARD
END:VTIMEZONE
BEGIN:VEVENT
DTSTART;TZID=America/New_York:20260425T110000
DTEND;TZID=America/New_York:20260425T121500
DTSTAMP:20260425T092431
CREATED:20260205T190248Z
LAST-MODIFIED:20260210T155234Z
UID:10001075-1777114800-1777119300@thegranitechurch.org
SUMMARY:Appalachian Flatfooting Workshop
DESCRIPTION:Appalachian Flatfooting Workshop\nSaturday\, April 25 at 11 AM\nTickets: $30 \nPlay folk music with your feet! For movers of all experience and backgrounds.\nFlatfooting is a solo form of improvised percussive dance originating in the Appalachian Mountains\, with sonic and gestural connections to West African\, Indigenous\, and Western European dance. Using the toe\, heel\, and ball of the foot to strike and slide across the floor\, flatfooting articulates the rhythms of old-time fiddle and banjo tunes. \nWear comfortable clothes and smooth-soled\, supportive shoes with a low heel or no heel for this class. Beginner to advanced workshop. \n \nABOUT THE HOSTS \nMontreal fiddler Alexis Chartrand has traced a singular path across the Québécois traditional music scene. “Known for his pensive reworkings of Québécois fiddle tunes” (Songlines)\, he has pioneered the use of baroque violin and bows for the interpretation of this repertoire. His partnership with multi-instrumentalist and sound engineer Nicolas Babineau has led to the release of three albums and to many concerts in Québec\, Canada\, the United States\, and Sweden. Hailed in 2019 as “two must-hears of Québécois traditional music” (Penguin Eggs)\, their 2024 collaboration with Nicolas Ellis and Orchestre de l’Agora “was a revelation and an intense emotional shock” (Le Devoir). He has explored the connection between music and dance with percussive dancers Nic Gareiss and Antoine Turmine. He has released duo albums with multi-instrumentalists Colin Savoie-Levac and Cédric Dind-Lavoie. Learn more at agchartrand.com \nOne of Dance Magazine’s “25 to Watch\,” Nic Gareiss has been hailed by the New York Times for his “dexterous melding of Irish and Appalachian dance.” He reimagines movement as a musical practice\, recasting dance as a medium that appeals to both eyes and ears. Gareiss engages many percussive dance traditions\, weaving together a singular dance practice marked by his love of clog\, flatfoot\, and step dance footwork\, improvisation\, and musical collaboration. Gareiss received the 2020 Michigan Heritage Award\, his home region’s highest distinction bestowed on traditional artists. He has performed in seventeen countries\, including at London’s Barbican Centre\, the Irish National Concert Hall\, the Munich Philharmonic\, and the Brooklyn Academy of Music. He holds an MA in Ethnochoreology from the University of Limerick. Learn more at nicgareiss.com \n“Gareiss’ dexterous melding of Irish and Appalachian dance…” – New York Times \n“…his feet coax music from the ground.” – Provincetown Independent
URL:https://thegranitechurch.org/event/appalachian-flatfooting-workshop/
LOCATION:The Granite Church\, 5 N. Main Street\, Redding\, CT\, 06896\, United States
CATEGORIES:Bluegrass,Dance,Music
ATTACH;FMTTYPE=image/png:https://thegranitechurch.org/wp-content/uploads/2026/02/Appalachian-Flatfooting-workshop.png
END:VEVENT
BEGIN:VEVENT
DTSTART;TZID=America/New_York:20260515T193000
DTEND;TZID=America/New_York:20260515T220000
DTSTAMP:20260425T092431
CREATED:20260408T204628Z
LAST-MODIFIED:20260408T210122Z
UID:10001112-1778873400-1778882400@thegranitechurch.org
SUMMARY:Swing Dance with Too Blue and Friends
DESCRIPTION:Swing Dance with Too Blue and Friends\nFriday\, May 15\, Dance lesson at 7:30 PM\, Show 8 PM – 10 PM (Doors at 7 PM)\nTickets: $20 \nLearn to swing dance with an introductory lesson at 7:30 – no partner required! Then dance the night away to the sounds of Too Blue and friends. \nTraveling freely between the genres of bluegrass\, swing\, Celtic and jazz\, a Too Blue performance is a dynamic dose of serious fun. Smooth harmonies and adventurous musicianship bring stellar arrangements to life and leave the listener anything but “blue”. Their newest release\, “Trouble With the Grey”\, produced and engineered by Bob Harris of Ampersand Records\, has received national radio airplay and enthusiastic reviews from Bluegrass Today and Bluegrass Unlimited. \nSeamlessly blending their vocals are guitarist Betsy Rome and banjoist Joan Harrison. Banjoist Joan Harrison brings a swingy bluegrass influenced feel to the set. Mandolin powerhouse Michael Sassano astounds and entertains\, while jazz bassist Jamie Doris brings a creative and unique perspective to the band.  Together\, Too Blue makes exciting bluegrass that swings and entertains.
URL:https://thegranitechurch.org/event/swing-dance-with-too-blue-and-friends-may15/
LOCATION:The Granite Church\, 5 N. Main Street\, Redding\, CT\, 06896\, United States
CATEGORIES:Bluegrass,Dance,Music
ATTACH;FMTTYPE=image/png:https://thegranitechurch.org/wp-content/uploads/2026/04/Swing-Dance-at-the-Granite-1.png
END:VEVENT
BEGIN:VEVENT
DTSTART;TZID=America/New_York:20260604T200000
DTEND;TZID=America/New_York:20260604T220000
DTSTAMP:20260425T092431
CREATED:20260408T160235Z
LAST-MODIFIED:20260408T161217Z
UID:10001111-1780603200-1780610400@thegranitechurch.org
SUMMARY:Square Dance with Bugs on a Log
DESCRIPTION:Square Dance with Bugs on a Log\nThursday\, June 4\, Doors at 7:30 PM\, Dance 8-10 PM\nTickets: $20 \nJoin CT’s own stringband for a family-friendly\, no experience necessary square dance! All dances will be taught and called by members of the band. Each dance begins with an inclusive lesson on all the steps- suitable for all ages and ability levels. Snacks and refreshments are available for purchase. \nAbout Bugs on a Log\nBrimming with festivity\, Bugs on a Log is an emergent stringband that cultivates warmth and joy wherever they go. With a wealth of expertise spanning from classical to old-time to bluegrass under their collective belt\, Bugs on a Log is a group sculpted from dynamic abundance. The New England-based band marries their spread of music with care\, the result an uncommon blend of precision\, vitality\, and innovation. Audiences describe live performances as moving and mirthful\, often stirred to dancing\, singing\, clapping\, and the like. \nComposed of Lana Auerbach (fiddle\, banjo)\, Austin Scelzo (fiddle\, mandolin\, guitar)\, Jeff Smith (guitar\, banjo\, mandolin)\, Malcolm Callagy (cello\, fiddle)\, Jack Corcoran (bass)\, and Oriana Mack (fiddle)\, each member is a multi-hyphenate talent and vocalist in their own rite. Their chemistry palpable and compelling\, Bugs on a Log is a new outfit full of promise\, ever sure to deliver a sweeping alchemy of strings and spirit.
URL:https://thegranitechurch.org/event/square-dance-with-bugs-on-a-log/
LOCATION:The Granite Church\, 5 N. Main Street\, Redding\, CT\, 06896\, United States
CATEGORIES:Bluegrass,Dance,Music
ATTACH;FMTTYPE=image/png:https://thegranitechurch.org/wp-content/uploads/2026/04/Square-Dance-Bugs-On-A-Log.png
END:VEVENT
BEGIN:VEVENT
DTSTART;TZID=America/New_York:20260626T190000
DTEND;TZID=America/New_York:20260626T230000
DTSTAMP:20260425T092431
CREATED:20260420T150436Z
LAST-MODIFIED:20260420T150654Z
UID:10001114-1782500400-1782514800@thegranitechurch.org
SUMMARY:Dance The Line
DESCRIPTION:Dance The Line\nFriday\, June 26\, 7 – 11 PM\nTickets: $20 \nGrab your boots and get ready for a fun night out! \nJoin us for Line Dancing Night at The Granite. Dance the night away with friends — great music\, great people\, and plenty of fun. Beginner and Improver friendly. Dancing and lessons throughout the night. BYOB welcome. \nBring a friend and don’t miss it! You can submit up to two dance requests in advance when you purchase tickets.
URL:https://thegranitechurch.org/event/dance-the-line-jun26/
LOCATION:The Granite Church\, 5 N. Main Street\, Redding\, CT\, 06896\, United States
CATEGORIES:Dance
ATTACH;FMTTYPE=image/jpeg:https://thegranitechurch.org/wp-content/uploads/2026/04/The-Granite-June-26th.jpg
END:VEVENT
BEGIN:VEVENT
DTSTART;TZID=America/New_York:20260724T190000
DTEND;TZID=America/New_York:20260724T230000
DTSTAMP:20260425T092431
CREATED:20260420T150955Z
LAST-MODIFIED:20260420T150955Z
UID:10001115-1784919600-1784934000@thegranitechurch.org
SUMMARY:Dance The Line
DESCRIPTION:Dance The Line\nFriday\, July 24\, 7 – 11 PM\nTickets: $20 \nGrab your boots and get ready for a fun night out! \nJoin us for Line Dancing Night at The Granite. Dance the night away with friends — great music\, great people\, and plenty of fun. Beginner and Improver friendly. Dancing and lessons throughout the night. BYOB welcome. \nBring a friend and don’t miss it! You can submit up to two dance requests in advance when you purchase tickets.
URL:https://thegranitechurch.org/event/dance-the-line-jul24/
LOCATION:The Granite Church\, 5 N. Main Street\, Redding\, CT\, 06896\, United States
CATEGORIES:Dance
ATTACH;FMTTYPE=image/jpeg:https://thegranitechurch.org/wp-content/uploads/2026/04/The-Granite-July-24th.jpg
END:VEVENT
BEGIN:VEVENT
DTSTART;TZID=America/New_York:20260821T190000
DTEND;TZID=America/New_York:20260821T230000
DTSTAMP:20260425T092431
CREATED:20260420T151146Z
LAST-MODIFIED:20260420T151146Z
UID:10001116-1787338800-1787353200@thegranitechurch.org
SUMMARY:Dance The Line
DESCRIPTION:Dance The Line\nFriday\, August 21\, 7 – 11 PM\nTickets: $20 \nGrab your boots and get ready for a fun night out! \nJoin us for Line Dancing Night at The Granite. Dance the night away with friends — great music\, great people\, and plenty of fun. Beginner and Improver friendly. Dancing and lessons throughout the night. BYOB welcome. \nBring a friend and don’t miss it! You can submit up to two dance requests in advance when you purchase tickets.
URL:https://thegranitechurch.org/event/dance-the-line-aug21/
LOCATION:The Granite Church\, 5 N. Main Street\, Redding\, CT\, 06896\, United States
CATEGORIES:Dance
ATTACH;FMTTYPE=image/jpeg:https://thegranitechurch.org/wp-content/uploads/2026/04/The-Granite-Aug-21.jpg
END:VEVENT
BEGIN:VEVENT
DTSTART;TZID=America/New_York:20260925T190000
DTEND;TZID=America/New_York:20260925T230000
DTSTAMP:20260425T092431
CREATED:20260420T151337Z
LAST-MODIFIED:20260420T151337Z
UID:10001117-1790362800-1790377200@thegranitechurch.org
SUMMARY:Dance The Line
DESCRIPTION:Dance The Line\nFriday\, September 25\, 7 – 11 PM\nTickets: $20 \nGrab your boots and get ready for a fun night out! \nJoin us for Line Dancing Night at The Granite. Dance the night away with friends — great music\, great people\, and plenty of fun. Beginner and Improver friendly. Dancing and lessons throughout the night. BYOB welcome. \nBring a friend and don’t miss it! You can submit up to two dance requests in advance when you purchase tickets.
URL:https://thegranitechurch.org/event/dance-the-line-sept25/
LOCATION:The Granite Church\, 5 N. Main Street\, Redding\, CT\, 06896\, United States
CATEGORIES:Dance
ATTACH;FMTTYPE=image/jpeg:https://thegranitechurch.org/wp-content/uploads/2026/04/The-Grante-Sept.-25th.jpg
END:VEVENT
BEGIN:VEVENT
DTSTART;TZID=America/New_York:20261023T190000
DTEND;TZID=America/New_York:20261023T230000
DTSTAMP:20260425T092431
CREATED:20260420T151524Z
LAST-MODIFIED:20260420T151524Z
UID:10001118-1792782000-1792796400@thegranitechurch.org
SUMMARY:Dance The Line
DESCRIPTION:Dance The Line\nFriday\, October 23\, 7 – 11 PM\nTickets: $20 \nGrab your boots and get ready for a fun night out! \nJoin us for Line Dancing Night at The Granite. Dance the night away with friends — great music\, great people\, and plenty of fun. Beginner and Improver friendly. Dancing and lessons throughout the night. BYOB welcome. \nBring a friend and don’t miss it! You can submit up to two dance requests in advance when you purchase tickets.
URL:https://thegranitechurch.org/event/dance-the-line-oct23/
LOCATION:The Granite Church\, 5 N. Main Street\, Redding\, CT\, 06896\, United States
CATEGORIES:Dance
ATTACH;FMTTYPE=image/jpeg:https://thegranitechurch.org/wp-content/uploads/2026/04/The-Granite-Oct-23rd.jpg
END:VEVENT
END:VCALENDAR