BEGIN:VCALENDAR
VERSION:2.0
PRODID:-//The Granite - ECPv6.11.2//NONSGML v1.0//EN
CALSCALE:GREGORIAN
METHOD:PUBLISH
X-ORIGINAL-URL:https://thegranitechurch.org
X-WR-CALDESC:Events for The Granite
REFRESH-INTERVAL;VALUE=DURATION:PT1H
X-Robots-Tag:noindex
X-PUBLISHED-TTL:PT1H
BEGIN:VTIMEZONE
TZID:America/New_York
BEGIN:DAYLIGHT
TZOFFSETFROM:-0500
TZOFFSETTO:-0400
TZNAME:EDT
DTSTART:20260308T070000
END:DAYLIGHT
BEGIN:STANDARD
TZOFFSETFROM:-0400
TZOFFSETTO:-0500
TZNAME:EST
DTSTART:20261101T060000
END:STANDARD
END:VTIMEZONE
BEGIN:VEVENT
DTSTART;TZID=America/New_York:20260522T180000
DTEND;TZID=America/New_York:20260522T210000
DTSTAMP:20260425T150128
CREATED:20260316T165634Z
LAST-MODIFIED:20260319T143018Z
UID:10001110-1779472800-1779483600@thegranitechurch.org
SUMMARY:Weavings\, Wires\, Roots\, and Branches: Artist Talk & Reception
DESCRIPTION:Weavings\, Wires\, Roots & Branches: Final Artist Talk & Reception\nFriday\, May 22\, 6 – 9 PM\nDonations Appreciated \nThe end is the beginning again. \nDuring Kate Keeler’s final artist talk and reception for the exhibit\, Weavings\, Wires\, Roots\, and Branches\, she will walk attendees through a video projection and slideshow\, unveiling the sources of her paintings\, prints\, and collages. \nPhotos and anecdotes of family members and local history\, paired with silent film still clips from the early 20th century\, weave together into a visual display celebrating the many acres of wires\, roots\, and branches that inspired this exhibit. \nLearn more about the exhibit here.
URL:https://thegranitechurch.org/event/weavings-wires-roots-branches-artist-talk-reception/
LOCATION:The Granite Church\, 5 N. Main Street\, Redding\, CT\, 06896\, United States
CATEGORIES:Art,Exhibit
ATTACH;FMTTYPE=image/png:https://thegranitechurch.org/wp-content/uploads/2026/03/Artist-Talk-and-Reception-May-22.png
END:VEVENT
END:VCALENDAR